BEGIN:VCALENDAR
VERSION:2.0
PRODID:-//Lasmiliuna - ECPv6.15.11//NONSGML v1.0//EN
CALSCALE:GREGORIAN
METHOD:PUBLISH
X-ORIGINAL-URL:https://lasmiliuna.com
X-WR-CALDESC:Eventos para Lasmiliuna
REFRESH-INTERVAL;VALUE=DURATION:PT1H
X-Robots-Tag:noindex
X-PUBLISHED-TTL:PT1H
BEGIN:VTIMEZONE
TZID:Europe/Madrid
BEGIN:DAYLIGHT
TZOFFSETFROM:+0100
TZOFFSETTO:+0200
TZNAME:CEST
DTSTART:20240331T010000
END:DAYLIGHT
BEGIN:STANDARD
TZOFFSETFROM:+0200
TZOFFSETTO:+0100
TZNAME:CET
DTSTART:20241027T010000
END:STANDARD
BEGIN:DAYLIGHT
TZOFFSETFROM:+0100
TZOFFSETTO:+0200
TZNAME:CEST
DTSTART:20250330T010000
END:DAYLIGHT
BEGIN:STANDARD
TZOFFSETFROM:+0200
TZOFFSETTO:+0100
TZNAME:CET
DTSTART:20251026T010000
END:STANDARD
BEGIN:DAYLIGHT
TZOFFSETFROM:+0100
TZOFFSETTO:+0200
TZNAME:CEST
DTSTART:20260329T010000
END:DAYLIGHT
BEGIN:STANDARD
TZOFFSETFROM:+0200
TZOFFSETTO:+0100
TZNAME:CET
DTSTART:20261025T010000
END:STANDARD
END:VTIMEZONE
BEGIN:VEVENT
DTSTART;TZID=Europe/Madrid:20251220T080000
DTEND;TZID=Europe/Madrid:20251221T170000
DTSTAMP:20260420T193718
CREATED:20251208T202757Z
LAST-MODIFIED:20251208T202757Z
UID:21124-1766217600-1766336400@lasmiliuna.com
SUMMARY:CELEBRAMOS LA NAVIDAD
DESCRIPTION:🎄 ¡Celebremos la Navidad en LASMILIUNA! 🎄El próximo 20 de diciembre\, desde las 22:00 hasta las 05:00\, te invitamos a vivir una noche mágica\, sensual y llena de diversión en nuestro Especial de Navidad. \nSumérgete en un ambiente festivo rodeado de luces\, música y el mejor ambiente del club.✨ DJ Session en vivo✨ Sorteo de una cesta de Navidad entre todas las parejas asistentes \n📍 Lasmiliuna Swinger ClubCarrer Serrallers 25 – El Vendrell\, Tarragona🌐 www.lasmiliuna.com \nVen a vivir una noche llena de magia\, erotismo y buena energía.¡Te esperamos para celebrar juntos este SÁBADO SWINGER especial de Navidad! 🎅🎄🔥 \n📲 Reserva por WhatsApp: 691 344 163\n🕘 De 22:00 a 05:00 \n💑 Parejas: 50 € (4 consumiciones)\n👨 Chicos solos: 50 € (2 consumiciones) — Reserva obligatoria\n👩 Chicas solas: 20 € (2 consumiciones) \nVen con tu mejor actitud\, con curiosidad… y con ganas de vivir una noche que no se olvida.\nPorque en Lasmiliuna\, cada sábado es una historia nueva. 🔥
URL:https://lasmiliuna.com/event/celebramos-la-navidad/
LOCATION:LASMILIUNA\, CARRER SERRALLERS 25\, El Vendrell\, Tarragona\, 43700\, Spain
CATEGORIES:Club,Party,Swinger
ATTACH;FMTTYPE=image/jpeg:https://lasmiliuna.com/wp-content/uploads/2025/12/20.12.25.jpg
END:VEVENT
BEGIN:VEVENT
DTSTART;TZID=Europe/Madrid:20251221T200000
DTEND;TZID=Europe/Madrid:20251222T010000
DTSTAMP:20260420T193718
CREATED:20251202T141221Z
LAST-MODIFIED:20251202T141221Z
UID:21103-1766347200-1766365200@lasmiliuna.com
SUMMARY:DOMINGO LASMILIUNA
DESCRIPTION:Domingos en Lasmiliuna: el placer no descansa \nEl domingo cae despacio.\nLas calles están tranquilas\, la ciudad bosteza… y tú miras el sofá\, dudando si volver a caer en la rutina.\nPero algo dentro de ti se niega.\nAún queda noche. Aún queda deseo. \nLas puertas se abren y el ambiente te envuelve con ese calor que mezcla música\, luces suaves y miradas que invitan a jugar.\nNo hay prisa.\nSolo ese ritmo lento que se disfruta con los sentidos.\nLas conversaciones se acercan\, las miradas se alargan\, los cuerpos se dejan llevar.\nLa semana puede esperar… el placer\, no. \nEste domingo\, empieza la semana con una sonrisa de oreja a oreja.\nDeja el sofá y vente a disfrutar del ambiente más sugerente. \n🍕 Picoteo de pizza de 20:00 a 22:00 \n💋 Horario \n🕘 De 20:00 a 01:00 \nParejas: 25 € (2 consumiciones) \nChicas: 10 € (1 consumición) \nChicos: 25 € (2 consumiciones) → Reserva obligatoria por WhatsApp \nVen\, comparte\, juega\, sonríe…\nEn Lasmiliuna\, los domingos no son de descanso: son de pasión\, picoteo y placer. \n📱 Reserva por WhatsApp: 691 344 163
URL:https://lasmiliuna.com/event/domingo-lasmiliuna-8/
LOCATION:LASMILIUNA\, CARRER SERRALLERS 25\, El Vendrell\, Tarragona\, 43700\, Spain
CATEGORIES:Club,Party,Swinger
ATTACH;FMTTYPE=image/jpeg:https://lasmiliuna.com/wp-content/uploads/2025/12/21.12.25.jpg
END:VEVENT
END:VCALENDAR