BEGIN:VCALENDAR
VERSION:2.0
PRODID:-//Lasmiliuna - ECPv6.15.11//NONSGML v1.0//EN
CALSCALE:GREGORIAN
METHOD:PUBLISH
X-ORIGINAL-URL:https://lasmiliuna.com
X-WR-CALDESC:Eventos para Lasmiliuna
REFRESH-INTERVAL;VALUE=DURATION:PT1H
X-Robots-Tag:noindex
X-PUBLISHED-TTL:PT1H
BEGIN:VTIMEZONE
TZID:Europe/Madrid
BEGIN:DAYLIGHT
TZOFFSETFROM:+0100
TZOFFSETTO:+0200
TZNAME:CEST
DTSTART:20240331T010000
END:DAYLIGHT
BEGIN:STANDARD
TZOFFSETFROM:+0200
TZOFFSETTO:+0100
TZNAME:CET
DTSTART:20241027T010000
END:STANDARD
BEGIN:DAYLIGHT
TZOFFSETFROM:+0100
TZOFFSETTO:+0200
TZNAME:CEST
DTSTART:20250330T010000
END:DAYLIGHT
BEGIN:STANDARD
TZOFFSETFROM:+0200
TZOFFSETTO:+0100
TZNAME:CET
DTSTART:20251026T010000
END:STANDARD
BEGIN:DAYLIGHT
TZOFFSETFROM:+0100
TZOFFSETTO:+0200
TZNAME:CEST
DTSTART:20260329T010000
END:DAYLIGHT
BEGIN:STANDARD
TZOFFSETFROM:+0200
TZOFFSETTO:+0100
TZNAME:CET
DTSTART:20261025T010000
END:STANDARD
END:VTIMEZONE
BEGIN:VEVENT
DTSTART;TZID=Europe/Madrid:20251025T220000
DTEND;TZID=Europe/Madrid:20251026T050000
DTSTAMP:20260423T011915
CREATED:20251023T114620Z
LAST-MODIFIED:20251023T121944Z
UID:20892-1761429600-1761454800@lasmiliuna.com
SUMMARY:SABADO SWINGER + TARJETA V.I.P
DESCRIPTION:La noche donde todo puede pasar\nEl sábado llega con un solo propósito: romper la rutina y encender los sentidos.La semana termina\, el cuerpo pide movimiento\, roce\, mirada… y el deseo se despierta.En Lasmiliuna\, cada sábado es una invitación a dejarte llevar\, a bailar\, a provocar… y a vivir una noche que no se olvida. \nEntre luces suaves\, cuerpos en movimiento y miradas que arden\, descubrirás un ambiente donde el morbo y la sensualidad se sienten en el aire.El ritmo del DJ marca el pulso de la noche\, las copas fluyen\, las sonrisas se mezclan y la piel habla sin palabras. \nY este sábado tenemos algo que hará la noche aún más irresistible…💳 ¡Regalamos la Tarjeta VIP Lasmiliuna a todas las parejas!Ven a por la tuya y disfruta de descuentos exclusivos\, acceso preferente y la llave a un mundo de placer sin límites. \n📱 Reserva por WhatsApp: 691 344 163 \n🕘 De 22:00 a 05:00 \nParejas: 50 € (incluye 4 consumiciones) \nChicos solos: 50 € (2 consumiciones) → Reserva obligatoria por WhatsApp \nChicas solas: 20 € (2 consumiciones) \n🎧 DJ Session en vivoMúsica\, ritmo\, sensualidad y un ambiente liberal donde las inhibiciones se quedan en la puerta. \nVen con tu pareja dispuest@ a disfrutar.Déjate envolver por la música\, por la energía\, por la curiosidad que despierta lo desconocido.Porque en Lasmiliuna\, cada sábado es una historia distinta.
URL:https://lasmiliuna.com/event/sabado-swinger-tarjeta-v-i-p/
LOCATION:LASMILIUNA\, CARRER SERRALLERS 25\, El Vendrell\, Tarragona\, 43700\, Spain
CATEGORIES:Club,Party,Swinger
ATTACH;FMTTYPE=image/jpeg:https://lasmiliuna.com/wp-content/uploads/2025/10/IMG_20251005_214240B-scaled.jpg
END:VEVENT
END:VCALENDAR